﻿BEGIN:VCALENDAR
VERSION:2.0
PRODID:-//OSEBNA ASISTENCA: DRUŠTVO SVELIPA - ECPv5.1.4//NONSGML v1.0//EN
CALSCALE:GREGORIAN
METHOD:PUBLISH
X-WR-CALNAME:OSEBNA ASISTENCA: DRUŠTVO SVELIPA
X-ORIGINAL-URL:http://svelipa.si
X-WR-CALDESC:Events for OSEBNA ASISTENCA: DRUŠTVO SVELIPA
BEGIN:VTIMEZONE
TZID:Europe/Ljubljana
BEGIN:DAYLIGHT
TZOFFSETFROM:+0100
TZOFFSETTO:+0200
TZNAME:CEST
DTSTART:20200329T010000
END:DAYLIGHT
BEGIN:STANDARD
TZOFFSETFROM:+0200
TZOFFSETTO:+0100
TZNAME:CET
DTSTART:20201025T010000
END:STANDARD
END:VTIMEZONE
BEGIN:VEVENT
DTSTART;TZID=Europe/Ljubljana:20200910T141500
DTEND;TZID=Europe/Ljubljana:20200910T180000
DTSTAMP:20260420T005521
CREATED:20200908T111116Z
LAST-MODIFIED:20200910T103818Z
UID:1774-1599747300-1599760800@svelipa.si
SUMMARY:Društvo Svelipa\, bo na Festivalu LUPA2020
DESCRIPTION:Festival #LUPA 2020\nDruštvo Svelipa – za pomoč invalidom\, kronično bolnim in starostnikom ter izvajalec osebne asistence\, bo prvič sodelovalo na 19. vseslovenskem festivalu nevladnih organizacij #LUPA2020\, ki ga tradicionalno že devetnajstič\, organizira CNVOS – Center za informiranje\, sodelovanje in razvoj nevladnih organizacij. \n\n \n \n\nVljudno vabljeni vsi\, ki vas zanima področje osebne asistence in vsi\, ki razmišljate o tem\, da bi pomagali invalidom\, kronično bolnim in starejšim. \n\nNajdete nas na stojnici številka 24. \n\nVeselimo se srečanja z vami! \n \n .fb_iframe_widget span{width:460px !important;} .fb_iframe_widget iframe {margin: 0 !important;}        .fb_edge_comment_widget { display: none !important; }Društvo Svelipa\, bo na Festivalu LUPA2020Priporočena vsebina:REHA dnevi 2020 z mednarodno udeležbo: Živeti in delati po svojih pravilih\, Mirjana Borenović
URL:http://svelipa.si/event/osebna-asistenca-lupa2020/
LOCATION:Breg 1\, Ljubljana\, Slovenija
CATEGORIES:Lupa,osebna asitenca
ATTACH;FMTTYPE=image/jpeg:http://svelipa.si/wp-content/uploads/sites/8/2020/09/19.-festival-LUPA.jpg
END:VEVENT
END:VCALENDAR